BEGIN:VCALENDAR
VERSION:2.0
PRODID:-//Le Zoom - ECPv5.14.1//NONSGML v1.0//EN
CALSCALE:GREGORIAN
METHOD:PUBLISH
X-WR-CALNAME:Le Zoom
X-ORIGINAL-URL:https://le-zoom.com
X-WR-CALDESC:évènements pour Le Zoom
REFRESH-INTERVAL;VALUE=DURATION:PT1H
X-Robots-Tag:noindex
X-PUBLISHED-TTL:PT1H
BEGIN:VTIMEZONE
TZID:Europe/Paris
BEGIN:DAYLIGHT
TZOFFSETFROM:+0100
TZOFFSETTO:+0200
TZNAME:CEST
DTSTART:20200329T010000
END:DAYLIGHT
BEGIN:STANDARD
TZOFFSETFROM:+0200
TZOFFSETTO:+0100
TZNAME:CET
DTSTART:20201025T010000
END:STANDARD
END:VTIMEZONE
BEGIN:VEVENT
DTSTART;TZID=Europe/Paris:20201026T090000
DTEND;TZID=Europe/Paris:20201030T173000
DTSTAMP:20260424T064941
CREATED:20200702T103619Z
LAST-MODIFIED:20201006T080002Z
UID:3670-1603702800-1604079000@le-zoom.com
SUMMARY:ÇA TOURNE ! - COMPLET -
DESCRIPTION:avril 2026\n	\n	\n		L\n		M\n		M\n		J\n		V\n		S\n		D\n	\n	\n	\n	\n		 12345\n	\n	\n		6789101112\n	\n	\n		13141516171819\n	\n	\n		20212223242526\n	\n	\n		27282930\n		 \n	\n	\n	\n		« Juil\n		 \n		 \n	\n\n\n\n\n\n\n\n\n\nSTAGE D’INITIATION CINÉMA POUR LES JEUNES \n\n\n\n\n\nRéalisez votre court métrage !  \n\n\n\n\n\n\n\n\nLe stage d’initiation cinéma\, c’est une semaine pour réaliser un court métrage comme une équipe de professionnels !Une occasion unique de découvrir toute la diversité des métiers du cinéma.Chacun expérimente à tour de rôle chaque poste de travail\, aussi bien devant que derrière la caméra\, encadré par des professionnels de l’image (scénaristes\, réalisateurs…).Si le stage permet aux jeunes de découvrir tous les métiers du cinéma\, il mène également à une prise de conscience de la force de l’image\, tout en restant un temps ludique et éducatif\, où l’esprit de groupe décuple la créativité de chacun ! Le stage ne nécessite pas de connaissances préalables. \n\n\n\n Devenez scénariste\, acteur\, réalisateur…  \n\n\n\n\n\n\n\nINFORMATIONSSTAGE COMPLETOuvert aux jeunes de 12 à 18 ansPré-inscription : contact@le-zoom.com
URL:https://le-zoom.com/event/ca-tourne-2/2020-10-26/
LOCATION:Le Zoom by Crazy People\, 3\, rue de la Citadelle\, Bourg-en-Bresse\, 01000\, France
CATEGORIES:Stage pédagogiques
ATTACH;FMTTYPE=image/jpeg:https://le-zoom.com/wp-content/uploads/2020/07/IMG_1912-scaled-1.jpg
ORGANIZER;CN="Intime%20Compagnie":MAILTO:intime.cie@gmail.com
END:VEVENT
BEGIN:VEVENT
DTSTART;TZID=Europe/Paris:20200302T090000
DTEND;TZID=Europe/Paris:20200306T173000
DTSTAMP:20260424T064941
CREATED:20200129T164900Z
LAST-MODIFIED:20200219T163122Z
UID:2451-1583139600-1583515800@le-zoom.com
SUMMARY:ÇA TOURNE !
DESCRIPTION:avril 2026\n	\n	\n		L\n		M\n		M\n		J\n		V\n		S\n		D\n	\n	\n	\n	\n		 12345\n	\n	\n		6789101112\n	\n	\n		13141516171819\n	\n	\n		20212223242526\n	\n	\n		27282930\n		 \n	\n	\n	\n		« Juil\n		 \n		 \n	\n\n\n\n\n\n\n\n\n\nSTAGE D’INITIATION CINÉMA POUR LES JEUNES \n\n\n\n\n\nRéalisez votre court métrage !  \n\n\n\n\n\n\n\n\nLe stage d’initiation cinéma\, c’est une semaine pour réaliser un court métrage comme une équipe de professionnels !Une occasion unique de découvrir toute la diversité des métiers du cinéma.Chacun expérimente à tour de rôle chaque poste de travail\, aussi bien devant que derrière la caméra\, encadré par des professionnels de l’image (scénaristes\, réalisateurs…).Si le stage permet aux jeunes de découvrir tous les métiers du cinéma\, il mène également à une prise de conscience de la force de l’image\, tout en restant un temps ludique et éducatif\, où l’esprit de groupe décuple la créativité de chacun ! Le stage ne nécessite pas de connaissances préalables. \n\n\n\n Devenez scénariste\, acteur\, réalisateur…  \n\n\n\n\n\n\n\nINFORMATIONSOuvert aux jeunes de 12 à 18 ansPré-inscription : contact@le-zoom.com
URL:https://le-zoom.com/event/ca-tourne/2020-03-02/
LOCATION:Le Zoom by Crazy People\, 3\, rue de la Citadelle\, Bourg-en-Bresse\, 01000\, France
CATEGORIES:Stage pédagogiques
ATTACH;FMTTYPE=image/jpeg:https://le-zoom.com/wp-content/uploads/2020/01/IMG_1912-scaled.jpg
ORGANIZER;CN="Intime%20Compagnie":MAILTO:intime.cie@gmail.com
END:VEVENT
BEGIN:VEVENT
DTSTART;TZID=Europe/Paris:20200213T203000
DTEND;TZID=Europe/Paris:20200213T220000
DTSTAMP:20260424T064941
CREATED:20200130T154540Z
LAST-MODIFIED:20200131T112412Z
UID:2631-1581625800-1581631200@le-zoom.com
SUMMARY:Duras-Pivot.Apostrophes
DESCRIPTION:avril 2026\n	\n	\n		L\n		M\n		M\n		J\n		V\n		S\n		D\n	\n	\n	\n	\n		 12345\n	\n	\n		6789101112\n	\n	\n		13141516171819\n	\n	\n		20212223242526\n	\n	\n		27282930\n		 \n	\n	\n	\n		« Juil\n		 \n		 \n	\n\n\n\n\n\n\n\n\n\n\nTHÉÂTRE – Intime Compagnie\n\n\n\n\n60 minutes d’une rencontre éblouissante \n\n\n\nNotre coup de coeur du Festival d’Avignon  \n\n\n\n\n\n\n\n\nLe vendredi 22 juin 1990\, Bernard Pivot  referme la porte \nd’Apostrophes\, qu’il avait lancé quinze ans auparavant.  Le grand \nrendez-vous littéraire emblématique de la télévision française  a vécu. \nJusqu’à ce que deux comédiens décident de faire revivre  l’émission du \n28 septembre 1984\, quand Bernard Pivot a reçu Marguerite  Duras. De ce \nface-à-face éblouissant\, l’écrivain dira plus tard : « On  était \nretournés au premier état de la relation humaine\, celui de la  curiosité\n de l’autre ». Sur le plateau une table\, deux fauteuils\,  des \nlivres\, des fiches. Assis là\, un comédien et une comédienne\, une  heure \ndurant\, vont interpréter cette rencontre et donner accès à la  parole \nsingulière\, étonnante\, émouvante et parfois choquante de Marguerite… \n\n\n\n« Au-delà de la femme écrivain et de  l’homme de culture\, ils \ndeviennent à cet instant\, face à face\, tous les  hommes et toutes les \nfemmes qui se parlent et s’écoutent avec sincérité  et respect parce \nqu’ils s’intéressent l’un à l’autre. » \n\n\n\nUn des coups de cœur d’Avignon  salué par la critique unanime et dont Bernard Pivot\, l’un des  spectateurs privilégiés\, dira : « J’ai été ébloui de nous retrouver\,  elle et moi\, tels que nous étions\, dans l’affrontement et la connivence\,  dans la distance et la séduction. Chapeau\, les comédiens ! » \n\n\n\n \n\n\n\n\n\n\n\nINFORMATIONS 8€ jeune / 15€ adhérent / 18€ plein tarifJEUDI 13 FÉVRIER – 20H30SAMEDI 15 FÉVRIER – 20H30Infos/réservation : 04 74 21 38 12 Billetterie en ligne :  \n\n\n\n\n\nBILLETTERIEJeudi 13 février 20h30\n\n\n\n\n\nBILLETTERIESamedi 15 février 20h30\n\n\n\n\n\n\n\n\n\n\n\n\n\nUne fausse Duras\, un faux Pivot\, et tout est d’une vérité éclatante.   France Inter\n\n\n\n\n\n\n\n Une magistrale leçon d’interprétation.     La Nouvelle République\n\n\n\n\n\n\n\nSylvie Boivin et Claude Gallou sont tous deux criants de vérité.    LeMonde.fr\n\n\n\n\n\n\n\n ©Philippe Bréchet\n\n\n\nAvec Sylvie Boivin et Claude Gallou / Production Intime Compagnie
URL:https://le-zoom.com/event/duras-pivot-apostrophes-2/2020-02-13/
LOCATION:Le Zoom by Crazy People\, 3\, rue de la Citadelle\, Bourg-en-Bresse\, 01000\, France
CATEGORIES:Spectacles vivants
ATTACH;FMTTYPE=image/jpeg:https://le-zoom.com/wp-content/uploads/2020/01/Duras-Pivot-5-scaled.jpg
ORGANIZER;CN="Intime%20Compagnie":MAILTO:intime.cie@gmail.com
END:VEVENT
END:VCALENDAR